BEGIN:VCALENDAR
VERSION:2.0
PRODID:Events Booking
BEGIN:VEVENT
UID:69e74f67942a7
SUMMARY:Points Race - Thurs.\, Dec. 12
DESCRIPTION:
LOCATION:32 N 21st St\, Superior\, WI 54880
DTSTART:20241213T000000Z
DTEND:20241212T203000Z
DTSTAMP:20241031T011000Z
ORGANIZER;CN=LSRCC Events:MAILTO:webadmin@lsrcc.us
GEO:46.712637;-92.080921
X-APPLE-STRUCTURED-LOCATION;VALUE=URI;X-ADDRESS=32 N 21st St\, Superior\, W
 I 54880;X-APPLE-RADIUS=72;X-TITLE=Superior National Guard Amory:46.712637;
 -92.080921
END:VEVENT
BEGIN:VEVENT
UID:69e74f679477e
SUMMARY:Points Race - Thurs.\, Dec. 26
DESCRIPTION:
LOCATION:32 N 21st St\, Superior\, WI 54880
DTSTART:20241227T000000Z
DTEND:20241227T033000Z
DTSTAMP:20241031T011000Z
ORGANIZER;CN=LSRCC Events:MAILTO:webadmin@lsrcc.us
GEO:46.712637;-92.080921
X-APPLE-STRUCTURED-LOCATION;VALUE=URI;X-ADDRESS=32 N 21st St\, Superior\, W
 I 54880;X-APPLE-RADIUS=72;X-TITLE=Superior National Guard Amory:46.712637;
 -92.080921
END:VEVENT
BEGIN:VEVENT
UID:69e74f67947a3
SUMMARY:Points Race - Thurs.\, Jan. 9
DESCRIPTION:
LOCATION:32 N 21st St\, Superior\, WI 54880
DTSTART:20250110T000000Z
DTEND:20250110T033000Z
DTSTAMP:20241031T011000Z
ORGANIZER;CN=LSRCC Events:MAILTO:webadmin@lsrcc.us
GEO:46.712637;-92.080921
X-APPLE-STRUCTURED-LOCATION;VALUE=URI;X-ADDRESS=32 N 21st St\, Superior\, W
 I 54880;X-APPLE-RADIUS=72;X-TITLE=Superior National Guard Amory:46.712637;
 -92.080921
END:VEVENT
BEGIN:VEVENT
UID:69e74f67947b9
SUMMARY:Points Race - Thurs.\, Jan. 16
DESCRIPTION:
LOCATION:32 N 21st St\, Superior\, WI 54880
DTSTART:20250117T000000Z
DTEND:20250117T033000Z
DTSTAMP:20241031T011000Z
ORGANIZER;CN=LSRCC Events:MAILTO:webadmin@lsrcc.us
GEO:46.712637;-92.080921
X-APPLE-STRUCTURED-LOCATION;VALUE=URI;X-ADDRESS=32 N 21st St\, Superior\, W
 I 54880;X-APPLE-RADIUS=72;X-TITLE=Superior National Guard Amory:46.712637;
 -92.080921
END:VEVENT
BEGIN:VEVENT
UID:69e74f67947cb
SUMMARY:Points Race - Thurs.\, Jan. 23
DESCRIPTION:
LOCATION:32 N 21st St\, Superior\, WI 54880
DTSTART:20250124T000000Z
DTEND:20250124T033000Z
DTSTAMP:20241031T011000Z
ORGANIZER;CN=LSRCC Events:MAILTO:webadmin@lsrcc.us
GEO:46.712637;-92.080921
X-APPLE-STRUCTURED-LOCATION;VALUE=URI;X-ADDRESS=32 N 21st St\, Superior\, W
 I 54880;X-APPLE-RADIUS=72;X-TITLE=Superior National Guard Amory:46.712637;
 -92.080921
END:VEVENT
BEGIN:VEVENT
UID:69e74f67947dc
SUMMARY:Oval Racing - Sat.\, Jan. 25
DESCRIPTION:
LOCATION:32 N 21st St\, Superior\, WI 54880
DTSTART:20250125T160000Z
DTEND:20250125T223000Z
DTSTAMP:20241031T011000Z
ORGANIZER;CN=LSRCC Events:MAILTO:webadmin@lsrcc.us
GEO:46.712637;-92.080921
X-APPLE-STRUCTURED-LOCATION;VALUE=URI;X-ADDRESS=32 N 21st St\, Superior\, W
 I 54880;X-APPLE-RADIUS=72;X-TITLE=Superior National Guard Amory:46.712637;
 -92.080921
END:VEVENT
BEGIN:VEVENT
UID:69e74f67947ed
SUMMARY:Points Race - Thurs.\, Jan. 30
DESCRIPTION:
LOCATION:32 N 21st St\, Superior\, WI 54880
DTSTART:20250131T000000Z
DTEND:20250131T033000Z
DTSTAMP:20241031T011000Z
ORGANIZER;CN=LSRCC Events:MAILTO:webadmin@lsrcc.us
GEO:46.712637;-92.080921
X-APPLE-STRUCTURED-LOCATION;VALUE=URI;X-ADDRESS=32 N 21st St\, Superior\, W
 I 54880;X-APPLE-RADIUS=72;X-TITLE=Superior National Guard Amory:46.712637;
 -92.080921
END:VEVENT
BEGIN:VEVENT
UID:69e74f67947fe
SUMMARY:Points Race - Thurs.\, Feb. 6
DESCRIPTION:
LOCATION:32 N 21st St\, Superior\, WI 54880
DTSTART:20250207T000000Z
DTEND:20250207T033000Z
DTSTAMP:20241031T011000Z
ORGANIZER;CN=LSRCC Events:MAILTO:webadmin@lsrcc.us
GEO:46.712637;-92.080921
X-APPLE-STRUCTURED-LOCATION;VALUE=URI;X-ADDRESS=32 N 21st St\, Superior\, W
 I 54880;X-APPLE-RADIUS=72;X-TITLE=Superior National Guard Amory:46.712637;
 -92.080921
END:VEVENT
BEGIN:VEVENT
UID:69e74f679480f
SUMMARY:Points Race - Thurs.\, Feb. 13
DESCRIPTION:
LOCATION:32 N 21st St\, Superior\, WI 54880
DTSTART:20250214T000000Z
DTEND:20250214T033000Z
DTSTAMP:20241031T011000Z
ORGANIZER;CN=LSRCC Events:MAILTO:webadmin@lsrcc.us
GEO:46.712637;-92.080921
X-APPLE-STRUCTURED-LOCATION;VALUE=URI;X-ADDRESS=32 N 21st St\, Superior\, W
 I 54880;X-APPLE-RADIUS=72;X-TITLE=Superior National Guard Amory:46.712637;
 -92.080921
END:VEVENT
BEGIN:VEVENT
UID:69e74f6794820
SUMMARY:Oval Racing - Sat.\, Feb. 15
DESCRIPTION:
LOCATION:32 N 21st St\, Superior\, WI 54880
DTSTART:20250215T160000Z
DTEND:20250215T223000Z
DTSTAMP:20241031T011000Z
ORGANIZER;CN=LSRCC Events:MAILTO:webadmin@lsrcc.us
GEO:46.712637;-92.080921
X-APPLE-STRUCTURED-LOCATION;VALUE=URI;X-ADDRESS=32 N 21st St\, Superior\, W
 I 54880;X-APPLE-RADIUS=72;X-TITLE=Superior National Guard Amory:46.712637;
 -92.080921
END:VEVENT
BEGIN:VEVENT
UID:69e74f6794831
SUMMARY:Points Race - Thurs.\, Feb. 20
DESCRIPTION:
LOCATION:32 N 21st St\, Superior\, WI 54880
DTSTART:20250221T000000Z
DTEND:20250221T033000Z
DTSTAMP:20241031T011000Z
ORGANIZER;CN=LSRCC Events:MAILTO:webadmin@lsrcc.us
GEO:46.712637;-92.080921
X-APPLE-STRUCTURED-LOCATION;VALUE=URI;X-ADDRESS=32 N 21st St\, Superior\, W
 I 54880;X-APPLE-RADIUS=72;X-TITLE=Superior National Guard Amory:46.712637;
 -92.080921
END:VEVENT
BEGIN:VEVENT
UID:69e74f6794842
SUMMARY:Points Race - Thurs.\, Feb. 27
DESCRIPTION:
LOCATION:32 N 21st St\, Superior\, WI 54880
DTSTART:20250228T000000Z
DTEND:20250228T033000Z
DTSTAMP:20241031T011000Z
ORGANIZER;CN=LSRCC Events:MAILTO:webadmin@lsrcc.us
GEO:46.712637;-92.080921
X-APPLE-STRUCTURED-LOCATION;VALUE=URI;X-ADDRESS=32 N 21st St\, Superior\, W
 I 54880;X-APPLE-RADIUS=72;X-TITLE=Superior National Guard Amory:46.712637;
 -92.080921
END:VEVENT
BEGIN:VEVENT
UID:69e74f6794852
SUMMARY:Points Race - Thurs.\, Mar. 6
DESCRIPTION:
LOCATION:32 N 21st St\, Superior\, WI 54880
DTSTART:20250307T000000Z
DTEND:20250307T033000Z
DTSTAMP:20241031T011000Z
ORGANIZER;CN=LSRCC Events:MAILTO:webadmin@lsrcc.us
GEO:46.712637;-92.080921
X-APPLE-STRUCTURED-LOCATION;VALUE=URI;X-ADDRESS=32 N 21st St\, Superior\, W
 I 54880;X-APPLE-RADIUS=72;X-TITLE=Superior National Guard Amory:46.712637;
 -92.080921
END:VEVENT
BEGIN:VEVENT
UID:69e74f6794863
SUMMARY:Test & Tune
DESCRIPTION:
LOCATION:32 N 21st St\, Superior\, WI 54880
DTSTART:20251107T000000Z
DTEND:20251106T203000Z
DTSTAMP:20241031T011000Z
ORGANIZER;CN=LSRCC Events:MAILTO:webadmin@lsrcc.us
GEO:46.712637;-92.080921
X-APPLE-STRUCTURED-LOCATION;VALUE=URI;X-ADDRESS=32 N 21st St\, Superior\, W
 I 54880;X-APPLE-RADIUS=72;X-TITLE=Superior National Guard Amory:46.712637;
 -92.080921
END:VEVENT
BEGIN:VEVENT
UID:69e74f6794874
SUMMARY:Points Race - Thurs.\, Nov. 13
DESCRIPTION:
LOCATION:32 N 21st St\, Superior\, WI 54880
DTSTART:20251114T000000Z
DTEND:20251113T203000Z
DTSTAMP:20241031T011000Z
ORGANIZER;CN=LSRCC Events:MAILTO:webadmin@lsrcc.us
GEO:46.712637;-92.080921
X-APPLE-STRUCTURED-LOCATION;VALUE=URI;X-ADDRESS=32 N 21st St\, Superior\, W
 I 54880;X-APPLE-RADIUS=72;X-TITLE=Superior National Guard Amory:46.712637;
 -92.080921
END:VEVENT
BEGIN:VEVENT
UID:69e74f6794884
SUMMARY:Points Race - Thurs.\, Nov. 20
DESCRIPTION:
LOCATION:32 N 21st St\, Superior\, WI 54880
DTSTART:20251121T000000Z
DTEND:20251120T203000Z
DTSTAMP:20241031T011000Z
ORGANIZER;CN=LSRCC Events:MAILTO:webadmin@lsrcc.us
GEO:46.712637;-92.080921
X-APPLE-STRUCTURED-LOCATION;VALUE=URI;X-ADDRESS=32 N 21st St\, Superior\, W
 I 54880;X-APPLE-RADIUS=72;X-TITLE=Superior National Guard Amory:46.712637;
 -92.080921
END:VEVENT
BEGIN:VEVENT
UID:69e74f6794895
SUMMARY:Points Race - Thurs.\, Dec. 4
DESCRIPTION:
LOCATION:32 N 21st St\, Superior\, WI 54880
DTSTART:20251205T000000Z
DTEND:20251204T203000Z
DTSTAMP:20241031T011000Z
ORGANIZER;CN=LSRCC Events:MAILTO:webadmin@lsrcc.us
GEO:46.712637;-92.080921
X-APPLE-STRUCTURED-LOCATION;VALUE=URI;X-ADDRESS=32 N 21st St\, Superior\, W
 I 54880;X-APPLE-RADIUS=72;X-TITLE=Superior National Guard Amory:46.712637;
 -92.080921
END:VEVENT
BEGIN:VEVENT
UID:69e74f67948a6
SUMMARY:Points Race - Thurs.\, Dec. 11
DESCRIPTION:
LOCATION:32 N 21st St\, Superior\, WI 54880
DTSTART:20251212T000000Z
DTEND:20251211T203000Z
DTSTAMP:20241031T011000Z
ORGANIZER;CN=LSRCC Events:MAILTO:webadmin@lsrcc.us
GEO:46.712637;-92.080921
X-APPLE-STRUCTURED-LOCATION;VALUE=URI;X-ADDRESS=32 N 21st St\, Superior\, W
 I 54880;X-APPLE-RADIUS=72;X-TITLE=Superior National Guard Amory:46.712637;
 -92.080921
END:VEVENT
BEGIN:VEVENT
UID:69e74f67948ba
SUMMARY:Points Race - Thurs.\, Dec. 18
DESCRIPTION:
LOCATION:32 N 21st St\, Superior\, WI 54880
DTSTART:20251219T000000Z
DTEND:20251218T203000Z
DTSTAMP:20241031T011000Z
ORGANIZER;CN=LSRCC Events:MAILTO:webadmin@lsrcc.us
GEO:46.712637;-92.080921
X-APPLE-STRUCTURED-LOCATION;VALUE=URI;X-ADDRESS=32 N 21st St\, Superior\, W
 I 54880;X-APPLE-RADIUS=72;X-TITLE=Superior National Guard Amory:46.712637;
 -92.080921
END:VEVENT
BEGIN:VEVENT
UID:69e74f67948cb
SUMMARY:Oval Race - Sat.\, Dec. 20
DESCRIPTION:
LOCATION:32 N 21st St\, Superior\, WI 54880
DTSTART:20251220T160000Z
DTEND:20251220T203000Z
DTSTAMP:20241031T011000Z
ORGANIZER;CN=LSRCC Events:MAILTO:webadmin@lsrcc.us
GEO:46.712637;-92.080921
X-APPLE-STRUCTURED-LOCATION;VALUE=URI;X-ADDRESS=32 N 21st St\, Superior\, W
 I 54880;X-APPLE-RADIUS=72;X-TITLE=Superior National Guard Amory:46.712637;
 -92.080921
END:VEVENT
BEGIN:VEVENT
UID:69e74f67948de
SUMMARY:Points Race - Thurs.\, Jan. 8
DESCRIPTION:
LOCATION:32 N 21st St\, Superior\, WI 54880
DTSTART:20260109T000000Z
DTEND:20260108T203000Z
DTSTAMP:20241031T011000Z
ORGANIZER;CN=LSRCC Events:MAILTO:webadmin@lsrcc.us
GEO:46.712637;-92.080921
X-APPLE-STRUCTURED-LOCATION;VALUE=URI;X-ADDRESS=32 N 21st St\, Superior\, W
 I 54880;X-APPLE-RADIUS=72;X-TITLE=Superior National Guard Amory:46.712637;
 -92.080921
END:VEVENT
BEGIN:VEVENT
UID:69e74f67948ef
SUMMARY:Points Race - Thurs.\, Jan. 15
DESCRIPTION:
LOCATION:32 N 21st St\, Superior\, WI 54880
DTSTART:20260116T000000Z
DTEND:20260115T203000Z
DTSTAMP:20241031T011000Z
ORGANIZER;CN=LSRCC Events:MAILTO:webadmin@lsrcc.us
GEO:46.712637;-92.080921
X-APPLE-STRUCTURED-LOCATION;VALUE=URI;X-ADDRESS=32 N 21st St\, Superior\, W
 I 54880;X-APPLE-RADIUS=72;X-TITLE=Superior National Guard Amory:46.712637;
 -92.080921
END:VEVENT
BEGIN:VEVENT
UID:69e74f67948ff
SUMMARY:Points Race - Thurs.\, Jan. 22
DESCRIPTION:
LOCATION:32 N 21st St\, Superior\, WI 54880
DTSTART:20260123T000000Z
DTEND:20260122T203000Z
DTSTAMP:20241031T011000Z
ORGANIZER;CN=LSRCC Events:MAILTO:webadmin@lsrcc.us
GEO:46.712637;-92.080921
X-APPLE-STRUCTURED-LOCATION;VALUE=URI;X-ADDRESS=32 N 21st St\, Superior\, W
 I 54880;X-APPLE-RADIUS=72;X-TITLE=Superior National Guard Amory:46.712637;
 -92.080921
END:VEVENT
BEGIN:VEVENT
UID:69e74f679490f
SUMMARY:Points Race - Thurs.\, Jan. 29
DESCRIPTION:
LOCATION:32 N 21st St\, Superior\, WI 54880
DTSTART:20260130T000000Z
DTEND:20260129T203000Z
DTSTAMP:20241031T011000Z
ORGANIZER;CN=LSRCC Events:MAILTO:webadmin@lsrcc.us
GEO:46.712637;-92.080921
X-APPLE-STRUCTURED-LOCATION;VALUE=URI;X-ADDRESS=32 N 21st St\, Superior\, W
 I 54880;X-APPLE-RADIUS=72;X-TITLE=Superior National Guard Amory:46.712637;
 -92.080921
END:VEVENT
BEGIN:VEVENT
UID:69e74f6794920
SUMMARY:Points Race - Thurs.\, Feb. 5
DESCRIPTION:
LOCATION:32 N 21st St\, Superior\, WI 54880
DTSTART:20260206T000000Z
DTEND:20260205T203000Z
DTSTAMP:20241031T011000Z
ORGANIZER;CN=LSRCC Events:MAILTO:webadmin@lsrcc.us
GEO:46.712637;-92.080921
X-APPLE-STRUCTURED-LOCATION;VALUE=URI;X-ADDRESS=32 N 21st St\, Superior\, W
 I 54880;X-APPLE-RADIUS=72;X-TITLE=Superior National Guard Amory:46.712637;
 -92.080921
END:VEVENT
BEGIN:VEVENT
UID:69e74f6794931
SUMMARY:Rose Race - Thurs.\, Feb. 12
DESCRIPTION:
LOCATION:32 N 21st St\, Superior\, WI 54880
DTSTART:20260213T000000Z
DTEND:20260212T203000Z
DTSTAMP:20241031T011000Z
ORGANIZER;CN=LSRCC Events:MAILTO:webadmin@lsrcc.us
GEO:46.712637;-92.080921
X-APPLE-STRUCTURED-LOCATION;VALUE=URI;X-ADDRESS=32 N 21st St\, Superior\, W
 I 54880;X-APPLE-RADIUS=72;X-TITLE=Superior National Guard Amory:46.712637;
 -92.080921
END:VEVENT
BEGIN:VEVENT
UID:69e74f6794941
SUMMARY:Points Race - Thurs.\, Feb. 19
DESCRIPTION:
LOCATION:32 N 21st St\, Superior\, WI 54880
DTSTART:20260220T000000Z
DTEND:20260219T203000Z
DTSTAMP:20241031T011000Z
ORGANIZER;CN=LSRCC Events:MAILTO:webadmin@lsrcc.us
GEO:46.712637;-92.080921
X-APPLE-STRUCTURED-LOCATION;VALUE=URI;X-ADDRESS=32 N 21st St\, Superior\, W
 I 54880;X-APPLE-RADIUS=72;X-TITLE=Superior National Guard Amory:46.712637;
 -92.080921
END:VEVENT
BEGIN:VEVENT
UID:69e74f6794952
SUMMARY:Points Race - Thurs.\, Feb. 26
DESCRIPTION:
LOCATION:32 N 21st St\, Superior\, WI 54880
DTSTART:20260227T000000Z
DTEND:20260226T203000Z
DTSTAMP:20241031T011000Z
ORGANIZER;CN=LSRCC Events:MAILTO:webadmin@lsrcc.us
GEO:46.712637;-92.080921
X-APPLE-STRUCTURED-LOCATION;VALUE=URI;X-ADDRESS=32 N 21st St\, Superior\, W
 I 54880;X-APPLE-RADIUS=72;X-TITLE=Superior National Guard Amory:46.712637;
 -92.080921
END:VEVENT
BEGIN:VEVENT
UID:69e74f6794962
SUMMARY:Points Race - Thurs.\, Mar. 5
DESCRIPTION:
LOCATION:32 N 21st St\, Superior\, WI 54880
DTSTART:20260306T000000Z
DTEND:20260305T203000Z
DTSTAMP:20241031T011000Z
ORGANIZER;CN=LSRCC Events:MAILTO:webadmin@lsrcc.us
GEO:46.712637;-92.080921
X-APPLE-STRUCTURED-LOCATION;VALUE=URI;X-ADDRESS=32 N 21st St\, Superior\, W
 I 54880;X-APPLE-RADIUS=72;X-TITLE=Superior National Guard Amory:46.712637;
 -92.080921
END:VEVENT
BEGIN:VEVENT
UID:69e74f6794974
SUMMARY:Points Race - Thurs.\, Mar. 12
DESCRIPTION:THIS IS A MAKE UP RACE FOR THE CANCELED RACE 1/22/26  
LOCATION:32 N 21st St\, Superior\, WI 54880
DTSTART:20260306T000000Z
DTEND:20260305T203000Z
DTSTAMP:20241031T011000Z
ORGANIZER;CN=LSRCC Events:MAILTO:webadmin@lsrcc.us
GEO:46.712637;-92.080921
X-APPLE-STRUCTURED-LOCATION;VALUE=URI;X-ADDRESS=32 N 21st St\, Superior\, W
 I 54880;X-APPLE-RADIUS=72;X-TITLE=Superior National Guard Amory:46.712637;
 -92.080921
END:VEVENT
BEGIN:VEVENT
UID:69e74f6794983
SUMMARY:On Road - Sat.\, Mar. 14
DESCRIPTION:
LOCATION:32 N 21st St\, Superior\, WI 54880
DTSTART:20260314T150000Z
DTEND:20260314T193000Z
DTSTAMP:20241031T011000Z
ORGANIZER;CN=LSRCC Events:MAILTO:webadmin@lsrcc.us
GEO:46.712637;-92.080921
X-APPLE-STRUCTURED-LOCATION;VALUE=URI;X-ADDRESS=32 N 21st St\, Superior\, W
 I 54880;X-APPLE-RADIUS=72;X-TITLE=Superior National Guard Amory:46.712637;
 -92.080921
END:VEVENT
END:VCALENDAR